BEGIN:VCALENDAR
VERSION:2.0
PRODID:icalendar-ruby
CALSCALE:GREGORIAN
METHOD:PUBLISH
BEGIN:VEVENT
DTSTAMP:20260425T145247Z
UID:48-1511566@wesleymorgantown.org
DTSTART:20260503T170000Z
DTEND:20260503T200000Z
CLASS:PUBLIC
CREATED:20260424T114847
DESCRIPTION:College students of all levels and all faiths are welcome at th
 e United Methodist Campus Ministry kickoff event. Giveaways\, fellowship\,
  and continued activities planned. Contact Kate Crooks at 440-265-5096 to 
 learn more. 
LAST-MODIFIED:20260424T114847
LOCATION:Lecture Room
SUMMARY:United Methodist Student Campus Ministry Kickoff
URL;VALUE=URI:https://wesleymorgantown.org/events/united-methodist-student-
 campus-ministry-kickoff/2026-05-03
ATTACH;FILENAME=Youth-or-College-Bible-Study-05.jpg;FMTTYPE=image/jpeg:http
 s://dq5pwpg1q8ru0.cloudfront.net/2026/04/24/15/48/10/f6724e90-95de-49b4-9d
 97-bc1da4602549/Youth-or-College-Bible-Study-05.jpg
END:VEVENT
END:VCALENDAR
